BEGIN:VCALENDAR
VERSION:2.0
PRODID:-//Library Market//iCal Export//EN
BEGIN:VEVENT
SUMMARY:B vs Creston
UID:7960
DTSTAMP:20260424T113200Z
DTSTART:20260505T223000Z
DTEND:20260506T013000Z
LOCATION:United States
ROOM: Far South Field
DESCRIPTION:Sb RESCHEDULED FROM MAY 12th
URL:https://lied.librarycalendar.com/event/b-vs-creston-7960
END:VEVENT
END:VCALENDAR
